Package: cosmosR Version: 1.12.0 Command: rm -rf cosmosR.buildbin-libdir && mkdir cosmosR.buildbin-libdir && F:\biocbuild\bbs-3.19-bioc\R\bin\R.exe CMD INSTALL --build --library=cosmosR.buildbin-libdir cosmosR_1.12.0.tar.gz StartedAt: 2024-06-27 08:02:54 -0400 (Thu, 27 Jun 2024) EndedAt: 2024-06-27 08:03:14 -0400 (Thu, 27 Jun 2024) EllapsedTime: 19.5 seconds RetCode: 0 Status: OK PackageFile: cosmosR_1.12.0.zip PackageFileSize: 3.452 MiB