Package: cosmosR Version: 1.12.0 Command: /Library/Frameworks/R.framework/Resources/bin/R CMD INSTALL cosmosR StartedAt: 2024-10-16 15:56:52 -0400 (Wed, 16 Oct 2024) EndedAt: 2024-10-16 15:57:10 -0400 (Wed, 16 Oct 2024) EllapsedTime: 18.8 seconds RetCode: 0 Status: OK