Package: cosmosR Version: 1.12.0 Command: /Library/Frameworks/R.framework/Resources/bin/R CMD INSTALL cosmosR StartedAt: 2024-06-09 15:17:38 -0400 (Sun, 09 Jun 2024) EndedAt: 2024-06-09 15:17:51 -0400 (Sun, 09 Jun 2024) EllapsedTime: 12.6 seconds RetCode: 0 Status: OK