Package: cosmosR Version: 1.12.0 Command: rm -rf cosmosR.buildbin-libdir && mkdir cosmosR.buildbin-libdir && /Users/biocbuild/BBS/utils/build-universal.sh cosmosR_1.12.0.tar.gz /Library/Frameworks/R.framework/Resources/bin/R cosmosR.buildbin-libdir StartedAt: 2024-06-10 00:13:01 -0400 (Mon, 10 Jun 2024) EndedAt: 2024-06-10 00:13:13 -0400 (Mon, 10 Jun 2024) EllapsedTime: 12.4 seconds RetCode: 0 Status: OK PackageFile: cosmosR_1.12.0.tgz PackageFileSize: 3.449 MiB