Package: cosmosR Version: 1.12.0 Command: /Library/Frameworks/R.framework/Resources/bin/R CMD build --keep-empty-dirs --no-resave-data cosmosR StartedAt: 2024-10-16 22:11:34 -0400 (Wed, 16 Oct 2024) EndedAt: 2024-10-16 22:11:57 -0400 (Wed, 16 Oct 2024) EllapsedTime: 22.9 seconds RetCode: 0 Status: OK PackageFile: cosmosR_1.12.0.tar.gz PackageFileSize: 3.365 MiB