Package: cosmiq Version: 1.38.0 Command: E:\biocbuild\bbs-3.19-bioc\R\bin\R.exe CMD INSTALL cosmiq StartedAt: 2024-10-16 17:03:00 -0400 (Wed, 16 Oct 2024) EndedAt: 2024-10-16 17:03:52 -0400 (Wed, 16 Oct 2024) EllapsedTime: 51.6 seconds RetCode: 0 Status: OK