Package: cosmiq Version: 1.38.0 Command: F:\biocbuild\bbs-3.19-bioc\R\bin\R.exe CMD INSTALL cosmiq StartedAt: 2024-06-26 16:35:41 -0400 (Wed, 26 Jun 2024) EndedAt: 2024-06-26 16:36:37 -0400 (Wed, 26 Jun 2024) EllapsedTime: 56.3 seconds RetCode: 0 Status: OK