Package: cosmiq Version: 1.38.0 Command: chmod a+r cosmiq -R && F:\biocbuild\bbs-3.19-bioc\R\bin\R.exe CMD build --keep-empty-dirs --no-resave-data cosmiq StartedAt: 2024-06-26 18:01:53 -0400 (Wed, 26 Jun 2024) EndedAt: 2024-06-26 18:04:39 -0400 (Wed, 26 Jun 2024) EllapsedTime: 166.0 seconds RetCode: 0 Status: OK PackageFile: cosmiq_1.38.0.tar.gz PackageFileSize: 541.6 KiB