Package: cosmiq Version: 1.38.0 Command: rm -rf cosmiq.buildbin-libdir && mkdir cosmiq.buildbin-libdir && F:\biocbuild\bbs-3.19-bioc\R\bin\R.exe CMD INSTALL --build --library=cosmiq.buildbin-libdir cosmiq_1.38.0.tar.gz StartedAt: 2024-06-27 08:02:52 -0400 (Thu, 27 Jun 2024) EndedAt: 2024-06-27 08:03:44 -0400 (Thu, 27 Jun 2024) EllapsedTime: 51.9 seconds RetCode: 0 Status: OK PackageFile: cosmiq_1.38.0.zip PackageFileSize: 299 KiB