Package: cosmiq Version: 1.38.0 Command: /Library/Frameworks/R.framework/Resources/bin/R CMD check --install=check:cosmiq.install-out.txt --library=/Library/Frameworks/R.framework/Resources/library --no-vignettes --timings cosmiq_1.38.0.tar.gz StartedAt: 2024-07-04 03:03:58 -0400 (Thu, 04 Jul 2024) EndedAt: 2024-07-04 03:04:03 -0400 (Thu, 04 Jul 2024) EllapsedTime: 5.4 seconds RetCode: 1 Status: ERROR CheckDir: cosmiq.Rcheck Warnings: NA