Package: cosmiq Version: 1.38.0 Command: /Library/Frameworks/R.framework/Resources/bin/R CMD build --keep-empty-dirs --no-resave-data cosmiq StartedAt: 2024-10-16 18:15:32 -0400 (Wed, 16 Oct 2024) EndedAt: 2024-10-16 18:15:34 -0400 (Wed, 16 Oct 2024) EllapsedTime: 2.1 seconds RetCode: 1 Status: ERROR PackageFile: None PackageFileSize: NA