Package: cosmiq Version: 1.38.0 Command: rm -rf cosmiq.buildbin-libdir && mkdir cosmiq.buildbin-libdir && /Users/biocbuild/BBS/utils/build-universal.sh cosmiq_1.38.0.tar.gz /Library/Frameworks/R.framework/Resources/bin/R cosmiq.buildbin-libdir StartedAt: 2024-06-10 00:12:56 -0400 (Mon, 10 Jun 2024) EndedAt: 2024-06-10 00:13:53 -0400 (Mon, 10 Jun 2024) EllapsedTime: 57.1 seconds RetCode: 0 Status: OK PackageFile: cosmiq_1.38.0.tgz PackageFileSize: 290.8 KiB