Package: cosmiq Version: 1.38.0 Command: /home/biocbuild/R/R-beta-2024-04-15_r86425/bin/R CMD INSTALL cosmiq StartedAt: 2024-05-08 20:44:49 -0000 (Wed, 08 May 2024) EndedAt: 2024-05-08 20:45:44 -0000 (Wed, 08 May 2024) EllapsedTime: 55.2 seconds RetCode: 0 Status: OK