Package: cosmiq Version: 1.38.0 Command: /home/biocbuild/R/R-beta-2024-04-15_r86425/bin/R CMD build --keep-empty-dirs --no-resave-data cosmiq StartedAt: 2024-05-08 23:34:00 -0000 (Wed, 08 May 2024) EndedAt: 2024-05-08 23:37:19 -0000 (Wed, 08 May 2024) EllapsedTime: 199.3 seconds RetCode: 0 Status: OK PackageFile: cosmiq_1.38.0.tar.gz PackageFileSize: 534.1 KiB