Package: coseq Version: 1.28.0 Command: rm -rf coseq.buildbin-libdir && mkdir coseq.buildbin-libdir && E:\biocbuild\bbs-3.19-bioc\R\bin\R.exe CMD INSTALL --build --library=coseq.buildbin-libdir coseq_1.28.0.tar.gz StartedAt: 2024-10-17 07:35:59 -0400 (Thu, 17 Oct 2024) EndedAt: 2024-10-17 07:36:40 -0400 (Thu, 17 Oct 2024) EllapsedTime: 40.8 seconds RetCode: 0 Status: OK PackageFile: coseq_1.28.0.zip PackageFileSize: 1.41 MiB