Package: coseq Version: 1.28.0 Command: /home/biocbuild/bbs-3.19-bioc/R/bin/R CMD INSTALL coseq StartedAt: 2024-10-16 16:26:44 -0400 (Wed, 16 Oct 2024) EndedAt: 2024-10-16 16:27:14 -0400 (Wed, 16 Oct 2024) EllapsedTime: 30.1 seconds RetCode: 0 Status: OK