Package: coseq Version: 1.28.0 Command: /home/biocbuild/bbs-3.19-bioc/R/bin/R CMD check --install=check:coseq.install-out.txt --library=/home/biocbuild/bbs-3.19-bioc/R/site-library --timings coseq_1.28.0.tar.gz StartedAt: 2024-10-16 23:08:04 -0400 (Wed, 16 Oct 2024) EndedAt: 2024-10-16 23:15:21 -0400 (Wed, 16 Oct 2024) EllapsedTime: 436.9 seconds RetCode: 0 Status: OK CheckDir: coseq.Rcheck Warnings: 0