Package: coseq Version: 1.28.0 Command: /Library/Frameworks/R.framework/Resources/bin/R CMD INSTALL coseq StartedAt: 2024-10-16 16:13:33 -0400 (Wed, 16 Oct 2024) EndedAt: 2024-10-16 16:14:48 -0400 (Wed, 16 Oct 2024) EllapsedTime: 74.9 seconds RetCode: 0 Status: OK