Package: coseq Version: 1.28.0 Command: /Library/Frameworks/R.framework/Resources/bin/R CMD check --install=check:coseq.install-out.txt --library=/Library/Frameworks/R.framework/Resources/library --no-vignettes --timings coseq_1.28.0.tar.gz StartedAt: 2024-10-17 03:21:06 -0400 (Thu, 17 Oct 2024) EndedAt: 2024-10-17 03:30:40 -0400 (Thu, 17 Oct 2024) EllapsedTime: 574.4 seconds RetCode: 0 Status: OK CheckDir: coseq.Rcheck Warnings: 0