Package: coseq Version: 1.28.0 Command: /Library/Frameworks/R.framework/Resources/bin/R CMD build --keep-empty-dirs --no-resave-data coseq StartedAt: 2024-10-16 18:14:53 -0400 (Wed, 16 Oct 2024) EndedAt: 2024-10-16 18:24:18 -0400 (Wed, 16 Oct 2024) EllapsedTime: 565.4 seconds RetCode: 0 Status: OK PackageFile: coseq_1.28.0.tar.gz PackageFileSize: 1.88 MiB