Package: coseq Version: 1.28.0 Command: rm -rf coseq.buildbin-libdir && mkdir coseq.buildbin-libdir && /Users/biocbuild/BBS/utils/build-universal.sh coseq_1.28.0.tar.gz /Library/Frameworks/R.framework/Resources/bin/R coseq.buildbin-libdir StartedAt: 2024-10-18 17:56:48 -0400 (Fri, 18 Oct 2024) EndedAt: 2024-10-18 17:57:33 -0400 (Fri, 18 Oct 2024) EllapsedTime: 45.3 seconds RetCode: 0 Status: OK PackageFile: coseq_1.28.0.tgz PackageFileSize: 2.163 MiB