Package: corral Version: 1.14.0 Command: F:\biocbuild\bbs-3.19-bioc\R\bin\R.exe CMD INSTALL corral StartedAt: 2024-06-26 15:53:20 -0400 (Wed, 26 Jun 2024) EndedAt: 2024-06-26 15:54:02 -0400 (Wed, 26 Jun 2024) EllapsedTime: 41.8 seconds RetCode: 0 Status: OK