Package: corral Version: 1.14.0 Maintainer: Lauren Hsu MaintainerEmail: lrnshoe at gmail.com git_url: https://git.bioconductor.org/packages/corral git_branch: RELEASE_3_19 git_last_commit: e87c56e git_last_commit_date: 2024-04-30 11:24:52 -0400 (Tue, 30 Apr 2024)