Package: copa Version: 1.72.0 Command: /Library/Frameworks/R.framework/Resources/bin/R CMD INSTALL copa StartedAt: 2024-06-09 15:04:08 -0400 (Sun, 09 Jun 2024) EndedAt: 2024-06-09 15:04:18 -0400 (Sun, 09 Jun 2024) EllapsedTime: 10.0 seconds RetCode: 0 Status: OK