Package: convert Version: 1.80.0 Command: /Library/Frameworks/R.framework/Resources/bin/R CMD build --keep-empty-dirs --no-resave-data convert StartedAt: 2024-10-16 18:13:25 -0400 (Wed, 16 Oct 2024) EndedAt: 2024-10-16 18:13:47 -0400 (Wed, 16 Oct 2024) EllapsedTime: 21.2 seconds RetCode: 0 Status: OK PackageFile: convert_1.80.0.tar.gz PackageFileSize: 136.8 KiB