Package: convert Version: 1.80.0 Command: rm -rf convert.buildbin-libdir && mkdir convert.buildbin-libdir && /Users/biocbuild/BBS/utils/build-universal.sh convert_1.80.0.tar.gz /Library/Frameworks/R.framework/Resources/bin/R convert.buildbin-libdir StartedAt: 2024-10-18 17:56:02 -0400 (Fri, 18 Oct 2024) EndedAt: 2024-10-18 17:56:09 -0400 (Fri, 18 Oct 2024) EllapsedTime: 6.8 seconds RetCode: 0 Status: OK PackageFile: convert_1.80.0.tgz PackageFileSize: 182.2 KiB