Package: conumee Version: 1.38.0 Command: /Library/Frameworks/R.framework/Resources/bin/R CMD build --keep-empty-dirs --no-resave-data conumee StartedAt: 2024-06-09 16:17:59 -0400 (Sun, 09 Jun 2024) EndedAt: 2024-06-09 16:24:35 -0400 (Sun, 09 Jun 2024) EllapsedTime: 395.9 seconds RetCode: 0 Status: OK PackageFile: conumee_1.38.0.tar.gz PackageFileSize: 1.779 MiB