Package: conumee Version: 1.38.0 Command: /Library/Frameworks/R.framework/Resources/bin/R CMD check --install=check:conumee.install-out.txt --library=/Library/Frameworks/R.framework/Resources/library --no-vignettes --timings conumee_1.38.0.tar.gz StartedAt: 2024-06-10 11:40:42 -0400 (Mon, 10 Jun 2024) EndedAt: 2024-06-10 12:20:43 -0400 (Mon, 10 Jun 2024) EllapsedTime: 2401.0 seconds RetCode: None Status: TIMEOUT CheckDir: conumee.Rcheck Warnings: NA