Package: contiBAIT Version: 1.32.0 Command: chmod a+r contiBAIT -R && F:\biocbuild\bbs-3.19-bioc\R\bin\R.exe CMD build --keep-empty-dirs --no-resave-data contiBAIT StartedAt: 2024-06-26 18:00:31 -0400 (Wed, 26 Jun 2024) EndedAt: 2024-06-26 18:00:35 -0400 (Wed, 26 Jun 2024) EllapsedTime: 4.3 seconds RetCode: 1 Status: ERROR PackageFile: None PackageFileSize: NA