############################################################################## ############################################################################## ### ### Running command: ### ### chmod a+r contiBAIT -R && F:\biocbuild\bbs-3.19-bioc\R\bin\R.exe CMD build --keep-empty-dirs --no-resave-data contiBAIT ### ############################################################################## ############################################################################## * checking for file 'contiBAIT/DESCRIPTION' ... OK * preparing 'contiBAIT': * checking DESCRIPTION meta-information ... OK * cleaning src * installing the package to build vignettes ----------------------------------- ERROR: dependency 'exomeCopy' is not available for package 'contiBAIT' * removing 'F:/biocbuild/bbs-3.19-bioc/tmpdir/RtmpaEYGEu/Rinst46ac2dc03b0d/contiBAIT' ----------------------------------- ERROR: package installation failed