Package: consensusSeekeR Version: 1.32.0 Command: /home/biocbuild/bbs-3.19-bioc/R/bin/R CMD INSTALL consensusSeekeR StartedAt: 2024-10-16 16:06:42 -0400 (Wed, 16 Oct 2024) EndedAt: 2024-10-16 16:07:13 -0400 (Wed, 16 Oct 2024) EllapsedTime: 31.2 seconds RetCode: 0 Status: OK