Package: consensusSeekeR Version: 1.32.0 Command: /home/biocbuild/bbs-3.19-bioc/R/bin/R CMD check --install=check:consensusSeekeR.install-out.txt --library=/home/biocbuild/bbs-3.19-bioc/R/site-library --timings consensusSeekeR_1.32.0.tar.gz StartedAt: 2024-10-16 23:05:10 -0400 (Wed, 16 Oct 2024) EndedAt: 2024-10-16 23:10:28 -0400 (Wed, 16 Oct 2024) EllapsedTime: 317.7 seconds RetCode: 0 Status: OK CheckDir: consensusSeekeR.Rcheck Warnings: 0