Package: consensusSeekeR Version: 1.32.0 Command: /home/biocbuild/R/R-beta-2024-04-15_r86425/bin/R CMD build --keep-empty-dirs --no-resave-data consensusSeekeR StartedAt: 2024-05-08 23:31:39 -0000 (Wed, 08 May 2024) EndedAt: 2024-05-08 23:32:43 -0000 (Wed, 08 May 2024) EllapsedTime: 64.1 seconds RetCode: 0 Status: OK PackageFile: consensusSeekeR_1.32.0.tar.gz PackageFileSize: 763.5 KiB