Package: consensusSeekeR Version: 1.32.0 Command: rm -rf consensusSeekeR.buildbin-libdir && mkdir consensusSeekeR.buildbin-libdir && /Users/biocbuild/BBS/utils/build-universal.sh consensusSeekeR_1.32.0.tar.gz /Library/Frameworks/R.framework/Resources/bin/R consensusSeekeR.buildbin-libdir StartedAt: 2024-10-18 17:55:20 -0400 (Fri, 18 Oct 2024) EndedAt: 2024-10-18 17:56:02 -0400 (Fri, 18 Oct 2024) EllapsedTime: 42.5 seconds RetCode: 0 Status: OK PackageFile: consensusSeekeR_1.32.0.tgz PackageFileSize: 614.6 KiB