Package: consensusOV Version: 1.26.0 Command: E:\biocbuild\bbs-3.19-bioc\R\bin\R.exe CMD INSTALL consensusOV StartedAt: 2024-10-16 17:23:19 -0400 (Wed, 16 Oct 2024) EndedAt: 2024-10-16 17:24:25 -0400 (Wed, 16 Oct 2024) EllapsedTime: 65.6 seconds RetCode: 0 Status: OK