Package: consensusOV Version: 1.26.0 Command: chmod a+r consensusOV -R && E:\biocbuild\bbs-3.19-bioc\R\bin\R.exe CMD build --keep-empty-dirs --no-resave-data consensusOV StartedAt: 2024-10-16 18:22:28 -0400 (Wed, 16 Oct 2024) EndedAt: 2024-10-16 18:25:09 -0400 (Wed, 16 Oct 2024) EllapsedTime: 160.4 seconds RetCode: 0 Status: OK PackageFile: consensusOV_1.26.0.tar.gz PackageFileSize: 3.17 MiB