Package: consensusOV Version: 1.26.0 Command: F:\biocbuild\bbs-3.19-bioc\R\bin\R.exe CMD INSTALL consensusOV StartedAt: 2024-06-26 16:54:03 -0400 (Wed, 26 Jun 2024) EndedAt: 2024-06-26 16:55:07 -0400 (Wed, 26 Jun 2024) EllapsedTime: 63.9 seconds RetCode: 0 Status: OK