Package: consensusOV Version: 1.26.0 Command: chmod a+r consensusOV -R && F:\biocbuild\bbs-3.19-bioc\R\bin\R.exe CMD build --keep-empty-dirs --no-resave-data consensusOV StartedAt: 2024-06-26 18:00:08 -0400 (Wed, 26 Jun 2024) EndedAt: 2024-06-26 18:02:38 -0400 (Wed, 26 Jun 2024) EllapsedTime: 150.5 seconds RetCode: 0 Status: OK PackageFile: consensusOV_1.26.0.tar.gz PackageFileSize: 3.17 MiB