Package: consensusOV Version: 1.26.0 Command: /Library/Frameworks/R.framework/Resources/bin/R CMD build --keep-empty-dirs --no-resave-data consensusOV StartedAt: 2024-10-16 18:11:50 -0400 (Wed, 16 Oct 2024) EndedAt: 2024-10-16 18:17:14 -0400 (Wed, 16 Oct 2024) EllapsedTime: 323.9 seconds RetCode: 0 Status: OK PackageFile: consensusOV_1.26.0.tar.gz PackageFileSize: 3.21 MiB