Package: consensusOV Version: 1.26.0 Command: rm -rf consensusOV.buildbin-libdir && mkdir consensusOV.buildbin-libdir && /Users/biocbuild/BBS/utils/build-universal.sh consensusOV_1.26.0.tar.gz /Library/Frameworks/R.framework/Resources/bin/R consensusOV.buildbin-libdir StartedAt: 2024-10-18 17:55:14 -0400 (Fri, 18 Oct 2024) EndedAt: 2024-10-18 17:56:38 -0400 (Fri, 18 Oct 2024) EllapsedTime: 84.3 seconds RetCode: 0 Status: OK PackageFile: consensusOV_1.26.0.tgz PackageFileSize: 4.522 MiB