Package: consensus Version: 1.22.0 Command: chmod a+r consensus -R && E:\biocbuild\bbs-3.19-bioc\R\bin\R.exe CMD build --keep-empty-dirs --no-resave-data consensus StartedAt: 2024-10-16 18:22:09 -0400 (Wed, 16 Oct 2024) EndedAt: 2024-10-16 18:22:25 -0400 (Wed, 16 Oct 2024) EllapsedTime: 16.1 seconds RetCode: 0 Status: OK PackageFile: consensus_1.22.0.tar.gz PackageFileSize: 971.8 KiB