Package: consensus Version: 1.22.0 Command: rm -rf consensus.buildbin-libdir && mkdir consensus.buildbin-libdir && E:\biocbuild\bbs-3.19-bioc\R\bin\R.exe CMD INSTALL --build --library=consensus.buildbin-libdir consensus_1.22.0.tar.gz StartedAt: 2024-10-17 07:35:17 -0400 (Thu, 17 Oct 2024) EndedAt: 2024-10-17 07:35:28 -0400 (Thu, 17 Oct 2024) EllapsedTime: 11.1 seconds RetCode: 0 Status: OK PackageFile: consensus_1.22.0.zip PackageFileSize: 1.099 MiB