Package: consensus Version: 1.22.0 Command: /home/biocbuild/R/R-beta-2024-04-15_r86425/bin/R CMD build --keep-empty-dirs --no-resave-data consensus StartedAt: 2024-05-08 23:31:11 -0000 (Wed, 08 May 2024) EndedAt: 2024-05-08 23:31:18 -0000 (Wed, 08 May 2024) EllapsedTime: 7.0 seconds RetCode: 0 Status: OK PackageFile: consensus_1.22.0.tar.gz PackageFileSize: 963.6 KiB