Package: consICA Version: 2.2.0 Command: /Library/Frameworks/R.framework/Resources/bin/R CMD build --keep-empty-dirs --no-resave-data consICA StartedAt: 2024-10-16 18:12:05 -0400 (Wed, 16 Oct 2024) EndedAt: 2024-10-16 18:14:53 -0400 (Wed, 16 Oct 2024) EllapsedTime: 168.3 seconds RetCode: 0 Status: OK PackageFile: consICA_2.2.0.tar.gz PackageFileSize: 3.492 MiB