Package: consICA Version: 2.2.0 Command: /home/biocbuild/R/R-beta-2024-04-15_r86425/bin/R CMD check --install=check:consICA.install-out.txt --library=/home/biocbuild/R/R-beta-2024-04-15_r86425/site-library --no-vignettes --timings consICA_2.2.0.tar.gz StartedAt: 2024-05-09 06:09:33 -0000 (Thu, 09 May 2024) EndedAt: 2024-05-09 06:25:19 -0000 (Thu, 09 May 2024) EllapsedTime: 946.6 seconds RetCode: 0 Status: OK CheckDir: consICA.Rcheck Warnings: 0