Package: condiments Version: 1.12.0 Command: E:\biocbuild\bbs-3.19-bioc\R\bin\R.exe CMD INSTALL condiments StartedAt: 2024-10-16 17:14:05 -0400 (Wed, 16 Oct 2024) EndedAt: 2024-10-16 17:14:57 -0400 (Wed, 16 Oct 2024) EllapsedTime: 51.5 seconds RetCode: 0 Status: OK