Package: condiments Version: 1.12.0 Command: /Library/Frameworks/R.framework/Resources/bin/R CMD check --install=check:condiments.install-out.txt --library=/Library/Frameworks/R.framework/Resources/library --no-vignettes --timings condiments_1.12.0.tar.gz StartedAt: 2024-10-17 03:14:06 -0400 (Thu, 17 Oct 2024) EndedAt: 2024-10-17 03:31:01 -0400 (Thu, 17 Oct 2024) EllapsedTime: 1014.9 seconds RetCode: 0 Status: OK CheckDir: condiments.Rcheck Warnings: 0