Package: condiments Version: 1.12.0 Command: /Library/Frameworks/R.framework/Resources/bin/R CMD INSTALL condiments StartedAt: 2024-10-16 18:33:35 -0400 (Wed, 16 Oct 2024) EndedAt: 2024-10-16 18:34:15 -0400 (Wed, 16 Oct 2024) EllapsedTime: 40.0 seconds RetCode: 0 Status: OK