Package: concordexR Version: 1.4.0 Command: /Library/Frameworks/R.framework/Resources/bin/R CMD check --install=check:concordexR.install-out.txt --library=/Library/Frameworks/R.framework/Resources/library --no-vignettes --timings concordexR_1.4.0.tar.gz StartedAt: 2024-10-17 03:13:53 -0400 (Thu, 17 Oct 2024) EndedAt: 2024-10-17 03:19:26 -0400 (Thu, 17 Oct 2024) EllapsedTime: 333.3 seconds RetCode: 0 Status: OK CheckDir: concordexR.Rcheck Warnings: 0