Package: concordexR Version: 1.4.0 Command: /home/biocbuild/R/R-beta-2024-04-15_r86425/bin/R CMD check --install=check:concordexR.install-out.txt --library=/home/biocbuild/R/R-beta-2024-04-15_r86425/site-library --no-vignettes --timings concordexR_1.4.0.tar.gz StartedAt: 2024-05-09 06:08:04 -0000 (Thu, 09 May 2024) EndedAt: 2024-05-09 06:10:40 -0000 (Thu, 09 May 2024) EllapsedTime: 155.3 seconds RetCode: 0 Status: OK CheckDir: concordexR.Rcheck Warnings: 0